BEGIN:VCALENDAR
VERSION:2.0
PRODID:-//Duran Women&#039;s Golf Association - ECPv6.15.15//NONSGML v1.0//EN
CALSCALE:GREGORIAN
METHOD:PUBLISH
X-ORIGINAL-URL:https://dwgafl.com
X-WR-CALDESC:Events for Duran Women&#039;s Golf Association
REFRESH-INTERVAL;VALUE=DURATION:PT1H
X-Robots-Tag:noindex
X-PUBLISHED-TTL:PT1H
BEGIN:VTIMEZONE
TZID:America/New_York
BEGIN:DAYLIGHT
TZOFFSETFROM:-0500
TZOFFSETTO:-0400
TZNAME:EDT
DTSTART:20240310T070000
END:DAYLIGHT
BEGIN:STANDARD
TZOFFSETFROM:-0400
TZOFFSETTO:-0500
TZNAME:EST
DTSTART:20241103T060000
END:STANDARD
BEGIN:DAYLIGHT
TZOFFSETFROM:-0500
TZOFFSETTO:-0400
TZNAME:EDT
DTSTART:20250309T070000
END:DAYLIGHT
BEGIN:STANDARD
TZOFFSETFROM:-0400
TZOFFSETTO:-0500
TZNAME:EST
DTSTART:20251102T060000
END:STANDARD
BEGIN:DAYLIGHT
TZOFFSETFROM:-0500
TZOFFSETTO:-0400
TZNAME:EDT
DTSTART:20260308T070000
END:DAYLIGHT
BEGIN:STANDARD
TZOFFSETFROM:-0400
TZOFFSETTO:-0500
TZNAME:EST
DTSTART:20261101T060000
END:STANDARD
END:VTIMEZONE
BEGIN:VEVENT
DTSTART;TZID=America/New_York:20250501T083000
DTEND;TZID=America/New_York:20250501T133000
DTSTAMP:20260419T160725
CREATED:20250421T215937Z
LAST-MODIFIED:20250421T221001Z
UID:70-1746088200-1746106200@dwgafl.com
SUMMARY:Summer Fun Starts: May 1st - One Best Ball\, One Best Putt
DESCRIPTION:One Best Ball\, One Best Putt \nFor this game you will play your own ball through the hole counting every stroke. Each player will keep her own score and indicate the Team choices on the scorecard. You will count One Best Net Ball and One Best Putt of the team (the scores may not be from the same player) on each hole. Total them together for the team score. We will play 2 or 4 person teams depending on the number of players. \nSign Up in TeamReach by Tuesday at 6pm so the pairings can be made.
URL:https://dwgafl.com/event/summer-fun-starts-may-1st-one-best-ball-one-best-putt/
LOCATION:Duran Golf Club\, 7032 Stadium Parkway\, Viera\, FL\, 32940\, United States
CATEGORIES:Summer Fun
END:VEVENT
END:VCALENDAR