BEGIN:VCALENDAR
VERSION:2.0
PRODID:-//Duran Women&#039;s Golf Association - ECPv6.15.15//NONSGML v1.0//EN
CALSCALE:GREGORIAN
METHOD:PUBLISH
X-ORIGINAL-URL:https://dwgafl.com
X-WR-CALDESC:Events for Duran Women&#039;s Golf Association
REFRESH-INTERVAL;VALUE=DURATION:PT1H
X-Robots-Tag:noindex
X-PUBLISHED-TTL:PT1H
BEGIN:VTIMEZONE
TZID:America/New_York
BEGIN:DAYLIGHT
TZOFFSETFROM:-0500
TZOFFSETTO:-0400
TZNAME:EDT
DTSTART:20240310T070000
END:DAYLIGHT
BEGIN:STANDARD
TZOFFSETFROM:-0400
TZOFFSETTO:-0500
TZNAME:EST
DTSTART:20241103T060000
END:STANDARD
BEGIN:DAYLIGHT
TZOFFSETFROM:-0500
TZOFFSETTO:-0400
TZNAME:EDT
DTSTART:20250309T070000
END:DAYLIGHT
BEGIN:STANDARD
TZOFFSETFROM:-0400
TZOFFSETTO:-0500
TZNAME:EST
DTSTART:20251102T060000
END:STANDARD
BEGIN:DAYLIGHT
TZOFFSETFROM:-0500
TZOFFSETTO:-0400
TZNAME:EDT
DTSTART:20260308T070000
END:DAYLIGHT
BEGIN:STANDARD
TZOFFSETFROM:-0400
TZOFFSETTO:-0500
TZNAME:EST
DTSTART:20261101T060000
END:STANDARD
END:VTIMEZONE
BEGIN:VEVENT
DTSTART;TZID=America/New_York:20250522T083000
DTEND;TZID=America/New_York:20250522T133000
DTSTAMP:20260419T160838
CREATED:20250421T220647Z
LAST-MODIFIED:20250421T220918Z
UID:77-1747902600-1747920600@dwgafl.com
SUMMARY:Summer Fun: May 22nd - Stableford
DESCRIPTION:This week will be Stableford format. There will be Net and Gross winners. \n\n1 point – Bogey\n2 points – Par\n4 points – Birdie\n5 points – Eagle\n8 points – Hole in One\n\nPlease sign up on TeamReach by Tuesday at 6pm.
URL:https://dwgafl.com/event/summer-fun-may-22nd-stableford/
LOCATION:Duran Golf Club\, 7032 Stadium Parkway\, Viera\, FL\, 32940\, United States
CATEGORIES:Summer Fun
END:VEVENT
END:VCALENDAR