BEGIN:VCALENDAR
VERSION:2.0
PRODID:-//Duran Women&#039;s Golf Association - ECPv6.15.15//NONSGML v1.0//EN
CALSCALE:GREGORIAN
METHOD:PUBLISH
X-WR-CALNAME:Duran Women&#039;s Golf Association
X-ORIGINAL-URL:https://dwgafl.com
X-WR-CALDESC:Events for Duran Women&#039;s Golf Association
REFRESH-INTERVAL;VALUE=DURATION:PT1H
X-Robots-Tag:noindex
X-PUBLISHED-TTL:PT1H
BEGIN:VTIMEZONE
TZID:America/New_York
BEGIN:DAYLIGHT
TZOFFSETFROM:-0500
TZOFFSETTO:-0400
TZNAME:EDT
DTSTART:20240310T070000
END:DAYLIGHT
BEGIN:STANDARD
TZOFFSETFROM:-0400
TZOFFSETTO:-0500
TZNAME:EST
DTSTART:20241103T060000
END:STANDARD
BEGIN:DAYLIGHT
TZOFFSETFROM:-0500
TZOFFSETTO:-0400
TZNAME:EDT
DTSTART:20250309T070000
END:DAYLIGHT
BEGIN:STANDARD
TZOFFSETFROM:-0400
TZOFFSETTO:-0500
TZNAME:EST
DTSTART:20251102T060000
END:STANDARD
BEGIN:DAYLIGHT
TZOFFSETFROM:-0500
TZOFFSETTO:-0400
TZNAME:EDT
DTSTART:20260308T070000
END:DAYLIGHT
BEGIN:STANDARD
TZOFFSETFROM:-0400
TZOFFSETTO:-0500
TZNAME:EST
DTSTART:20261101T060000
END:STANDARD
BEGIN:DAYLIGHT
TZOFFSETFROM:-0500
TZOFFSETTO:-0400
TZNAME:EDT
DTSTART:20270314T070000
END:DAYLIGHT
BEGIN:STANDARD
TZOFFSETFROM:-0400
TZOFFSETTO:-0500
TZNAME:EST
DTSTART:20271107T060000
END:STANDARD
END:VTIMEZONE
BEGIN:VEVENT
DTSTART;TZID=America/New_York:20260416T090000
DTEND;TZID=America/New_York:20260416T133000
DTSTAMP:20260420T003808
CREATED:20260211T002553Z
LAST-MODIFIED:20260211T002553Z
UID:295-1776330000-1776346200@dwgafl.com
SUMMARY:1st game - League Parking Spot Tournament
DESCRIPTION:Apr. 16 – 1st game – League Parking Spot Tournament *(earn extra points)
URL:https://dwgafl.com/event/1st-game-league-parking-spot-tournament/
LOCATION:Duran Golf Club\, 7032 Stadium Parkway\, Viera\, FL\, 32940\, United States
CATEGORIES:2025-2026 Season
END:VEVENT
BEGIN:VEVENT
DTSTART;TZID=America/New_York:20260409T090000
DTEND;TZID=America/New_York:20260409T133000
DTSTAMP:20260420T003808
CREATED:20260211T002457Z
LAST-MODIFIED:20260211T002457Z
UID:293-1775725200-1775741400@dwgafl.com
SUMMARY:Ryder Cup
DESCRIPTION:Apr. 9 – Team Game – Ryder Cup (Choose your own Partner)
URL:https://dwgafl.com/event/ryder-cup/
LOCATION:Duran Golf Club\, 7032 Stadium Parkway\, Viera\, FL\, 32940\, United States
CATEGORIES:2025-2026 Season
END:VEVENT
BEGIN:VEVENT
DTSTART;TZID=America/New_York:20260408T090000
DTEND;TZID=America/New_York:20260408T100000
DTSTAMP:20260420T003808
CREATED:20260211T014050Z
LAST-MODIFIED:20260211T014111Z
UID:326-1775638800-1775642400@dwgafl.com
SUMMARY:Last DWGA Golf Clinic of the Season - Uneven Lies
DESCRIPTION:Uneven lies golf clinic for DWGA Members – Wednesday\, April 8th at 9AM
URL:https://dwgafl.com/event/last-dwga-golf-clinic-of-the-season-uneven-lies/
LOCATION:Duran Golf Club\, 7032 Stadium Parkway\, Viera\, FL\, 32940\, United States
CATEGORIES:Golf Clinics
END:VEVENT
BEGIN:VEVENT
DTSTART;TZID=America/New_York:20260402T090000
DTEND;TZID=America/New_York:20260402T133000
DTSTAMP:20260420T003808
CREATED:20260211T002052Z
LAST-MODIFIED:20260211T002052Z
UID:291-1775120400-1775136600@dwgafl.com
SUMMARY:Last Ringer Game – Side Game: Low Net/Gross *(parking points)
DESCRIPTION:Apr. 2 – Individual Game – Last Ringer Game – Side Game: Low Net/Gross *(parking points)
URL:https://dwgafl.com/event/last-ringer-game-side-game-low-net-gross-parking-points/
LOCATION:Duran Golf Club\, 7032 Stadium Parkway\, Viera\, FL\, 32940\, United States
CATEGORIES:2025-2026 Season
END:VEVENT
BEGIN:VEVENT
DTSTART;TZID=America/New_York:20260326T090000
DTEND;TZID=America/New_York:20260326T133000
DTSTAMP:20260420T003808
CREATED:20260211T001759Z
LAST-MODIFIED:20260211T002136Z
UID:288-1774515600-1774531800@dwgafl.com
SUMMARY:3rd Ringer Game - Side game Chose your Best! *(parking points)
DESCRIPTION:Mar 26 – Individual Game – 3rd Ringer Game – Side game Chose your Best! *(parking points)
URL:https://dwgafl.com/event/3rd-ringer-game-side-game-chose-your-best-parking-points/
LOCATION:Duran Golf Club\, 7032 Stadium Parkway\, Viera\, FL\, 32940\, United States
CATEGORIES:2025-2026 Season
END:VEVENT
BEGIN:VEVENT
DTSTART;TZID=America/New_York:20260319T090000
DTEND;TZID=America/New_York:20260319T133000
DTSTAMP:20260420T003808
CREATED:20260211T001647Z
LAST-MODIFIED:20260211T002157Z
UID:286-1773910800-1773927000@dwgafl.com
SUMMARY:2nd Ringer Game - Side game Good\, Bad & the Ugly
DESCRIPTION:Mar 19 – Team Game – 2nd Ringer Game – Side game Good\, Bad & the Ugly
URL:https://dwgafl.com/event/2nd-ringer-game-side-game-good-bad-the-ugly/
LOCATION:Duran Golf Club\, 7032 Stadium Parkway\, Viera\, FL\, 32940\, United States
CATEGORIES:2025-2026 Season
END:VEVENT
BEGIN:VEVENT
DTSTART;TZID=America/New_York:20260311T090000
DTEND;TZID=America/New_York:20260311T100000
DTSTAMP:20260420T003808
CREATED:20260211T013920Z
LAST-MODIFIED:20260211T013920Z
UID:324-1773219600-1773223200@dwgafl.com
SUMMARY:DWGA Golf Clinic - On Course Management
DESCRIPTION:On Course Management golf clinic for DWGA members – Wednesday\, March 11th at 9AM
URL:https://dwgafl.com/event/dwga-golf-clinic-on-course-management/
LOCATION:Duran Golf Club\, 7032 Stadium Parkway\, Viera\, FL\, 32940\, United States
CATEGORIES:Golf Clinics
END:VEVENT
BEGIN:VEVENT
DTSTART;TZID=America/New_York:20260305T090000
DTEND;TZID=America/New_York:20260305T133000
DTSTAMP:20260420T003808
CREATED:20260211T001547Z
LAST-MODIFIED:20260211T002215Z
UID:284-1772701200-1772717400@dwgafl.com
SUMMARY:1st Ringer Game - Side game low net/low gross *(parking points)
DESCRIPTION:Mar 5 – Individual Game – 1st Ringer Game – Side game low net/low gross *(parking points)
URL:https://dwgafl.com/event/1st-ringer-game-side-game-low-net-low-gross-parking-points/
LOCATION:Duran Golf Club\, 7032 Stadium Parkway\, Viera\, FL\, 32940\, United States
CATEGORIES:2025-2026 Season
END:VEVENT
BEGIN:VEVENT
DTSTART;TZID=America/New_York:20260226T090000
DTEND;TZID=America/New_York:20260226T133000
DTSTAMP:20260420T003808
CREATED:20260211T001450Z
LAST-MODIFIED:20260211T002254Z
UID:282-1772096400-1772112600@dwgafl.com
SUMMARY:Low Net; Least Putts
DESCRIPTION:Feb 26 – Individual Game – Low Net; Least Putts
URL:https://dwgafl.com/event/low-net-least-putts/
LOCATION:Duran Golf Club\, 7032 Stadium Parkway\, Viera\, FL\, 32940\, United States
CATEGORIES:2025-2026 Season
END:VEVENT
BEGIN:VEVENT
DTSTART;TZID=America/New_York:20260219T090000
DTEND;TZID=America/New_York:20260219T133000
DTSTAMP:20260420T003808
CREATED:20260211T001344Z
LAST-MODIFIED:20260211T002331Z
UID:280-1771491600-1771507800@dwgafl.com
SUMMARY:“Par-Tees Best Ball” Team game
DESCRIPTION:February 19 will be our “Par-Tees Best Ball” Team game.
URL:https://dwgafl.com/event/par-tees-best-ball-team-game/
LOCATION:Duran Golf Club\, 7032 Stadium Parkway\, Viera\, FL\, 32940\, United States
CATEGORIES:2025-2026 Season
END:VEVENT
BEGIN:VEVENT
DTSTART;TZID=America/New_York:20260212T090000
DTEND;TZID=America/New_York:20260212T133000
DTSTAMP:20260420T003808
CREATED:20260211T001005Z
LAST-MODIFIED:20260211T001005Z
UID:278-1770886800-1770903000@dwgafl.com
SUMMARY:Low Net & Low Gross
DESCRIPTION:February 12\, we will play for Low Net & Low Gross.  We will also be playing for ‘The Love of Our League.’ If you wear your Duran or logo shirt\, you will receive Mulligan putts on the holes that spell ‘FRIEND’: #4\, 5\, 6\, 9\, 14\,18. We thought this would be a fun way to celebrate Valentine’s Day.
URL:https://dwgafl.com/event/low-net-low-gross/
LOCATION:Duran Golf Club\, 7032 Stadium Parkway\, Viera\, FL\, 32940\, United States
CATEGORIES:2025-2026 Season
END:VEVENT
BEGIN:VEVENT
DTSTART;TZID=America/New_York:20260211T090000
DTEND;TZID=America/New_York:20260211T100000
DTSTAMP:20260420T003808
CREATED:20260211T013728Z
LAST-MODIFIED:20260211T013728Z
UID:322-1770800400-1770804000@dwgafl.com
SUMMARY:DWGA Golf Clinic - Chip & Pitch
DESCRIPTION:Chip & Pitch golf clinic at the Duran Development Center for DWGA Members. \nWednesday\, Feb. 11th at 9AM\, Meet at the Development Center
URL:https://dwgafl.com/event/dwga-golf-clinic-chip-pitch/
LOCATION:Duran Golf Club\, 7032 Stadium Parkway\, Viera\, FL\, 32940\, United States
CATEGORIES:Golf Clinics
END:VEVENT
BEGIN:VEVENT
DTSTART;TZID=America/New_York:20251030T083000
DTEND;TZID=America/New_York:20251030T130000
DTSTAMP:20260420T003808
CREATED:20251001T004728Z
LAST-MODIFIED:20251001T004728Z
UID:272-1761813000-1761829200@dwgafl.com
SUMMARY:Cha-Cha-Cha
DESCRIPTION:Cha-Cha-Cha is a team game where you play your own ball. \n\nOn Hole 1\, you count the best ball of the foursome.\n\n\nOn Hole 2\, you count the best 2 balls of the foursome.\n\n\nOn Hole 3\, you count the best 3 balls of the foursome.\n\nThe process then repeats so that we are back to counting the best ball on the 4th hole\, best 2 on the 5th hole\, and so on.
URL:https://dwgafl.com/event/cha-cha-cha/
LOCATION:Duran Golf Club\, 7032 Stadium Parkway\, Viera\, FL\, 32940\, United States
CATEGORIES:2025-2026 Season
END:VEVENT
BEGIN:VEVENT
DTSTART;TZID=America/New_York:20251023T083000
DTEND;TZID=America/New_York:20251023T130000
DTSTAMP:20260420T003808
CREATED:20251001T004130Z
LAST-MODIFIED:20251001T004130Z
UID:270-1761208200-1761224400@dwgafl.com
SUMMARY:Stableford
DESCRIPTION:The format is Stableford. This is an individual game where points are awarded based on your score for each hole. At the end of the round\, your total points for each hole are added together for a total Stableford score.
URL:https://dwgafl.com/event/stableford/
LOCATION:Duran Golf Club\, 7032 Stadium Parkway\, Viera\, FL\, 32940\, United States
CATEGORIES:2025-2026 Season
END:VEVENT
BEGIN:VEVENT
DTSTART;TZID=America/New_York:20251016T083000
DTEND;TZID=America/New_York:20251016T130000
DTSTAMP:20260420T003808
CREATED:20251001T003318Z
LAST-MODIFIED:20251001T003318Z
UID:268-1760603400-1760619600@dwgafl.com
SUMMARY:Choose Your Best
DESCRIPTION:Choose Your Best
URL:https://dwgafl.com/event/choose-your-best/
LOCATION:Duran Golf Club\, 7032 Stadium Parkway\, Viera\, FL\, 32940\, United States
CATEGORIES:2025-2026 Season
END:VEVENT
BEGIN:VEVENT
DTSTART;TZID=America/New_York:20251009T083000
DTEND;TZID=America/New_York:20251009T130000
DTSTAMP:20260420T003808
CREATED:20251001T002728Z
LAST-MODIFIED:20251001T002728Z
UID:266-1759998600-1760014800@dwgafl.com
SUMMARY:Par 4's Only
DESCRIPTION:Par 4’s Only is an individual game where only the Par 4’s count.
URL:https://dwgafl.com/event/par-4s-only/
LOCATION:Duran Golf Club\, 7032 Stadium Parkway\, Viera\, FL\, 32940\, United States
CATEGORIES:2025-2026 Season
END:VEVENT
BEGIN:VEVENT
DTSTART;TZID=America/New_York:20251002T083000
DTEND;TZID=America/New_York:20251002T130000
DTSTAMP:20260420T003808
CREATED:20251001T002330Z
LAST-MODIFIED:20251001T002330Z
UID:264-1759393800-1759410000@dwgafl.com
SUMMARY:Opening Day - 1\,2\,3
DESCRIPTION:Game is 1\,2\,3 – a format where you play your own ball but your team will record 1 best net on par 5’s\, 2 best net on par 4’s\, 3 best net on par 3’s.
URL:https://dwgafl.com/event/opening-day-123/
LOCATION:Duran Golf Club\, 7032 Stadium Parkway\, Viera\, FL\, 32940\, United States
CATEGORIES:2025-2026 Season
END:VEVENT
BEGIN:VEVENT
DTSTART;TZID=America/New_York:20250529T083000
DTEND;TZID=America/New_York:20250529T133000
DTSTAMP:20260420T003808
CREATED:20250421T220806Z
LAST-MODIFIED:20250421T220904Z
UID:79-1748507400-1748525400@dwgafl.com
SUMMARY:Summer Fun: May 29th - Low Gross/Low Net
DESCRIPTION:Straight Golf. Flights will be a little different. There will be a Combo flight and Red Tee flights. \nSign up on TeamReach by Tuesday at 6pm.
URL:https://dwgafl.com/event/summer-fun-may-29th-low-gross-low-net/
LOCATION:Duran Golf Club\, 7032 Stadium Parkway\, Viera\, FL\, 32940\, United States
CATEGORIES:Summer Fun
END:VEVENT
BEGIN:VEVENT
DTSTART;TZID=America/New_York:20250522T083000
DTEND;TZID=America/New_York:20250522T133000
DTSTAMP:20260420T003808
CREATED:20250421T220647Z
LAST-MODIFIED:20250421T220918Z
UID:77-1747902600-1747920600@dwgafl.com
SUMMARY:Summer Fun: May 22nd - Stableford
DESCRIPTION:This week will be Stableford format. There will be Net and Gross winners. \n\n1 point – Bogey\n2 points – Par\n4 points – Birdie\n5 points – Eagle\n8 points – Hole in One\n\nPlease sign up on TeamReach by Tuesday at 6pm.
URL:https://dwgafl.com/event/summer-fun-may-22nd-stableford/
LOCATION:Duran Golf Club\, 7032 Stadium Parkway\, Viera\, FL\, 32940\, United States
CATEGORIES:Summer Fun
END:VEVENT
BEGIN:VEVENT
DTSTART;TZID=America/New_York:20250515T083000
DTEND;TZID=America/New_York:20250515T133000
DTSTAMP:20260420T003808
CREATED:20250421T220438Z
LAST-MODIFIED:20250421T220933Z
UID:75-1747297800-1747315800@dwgafl.com
SUMMARY:Summer Fun: May 15th - Just Even Holes
DESCRIPTION:This is an individual game. You will keep your gross score for posting\, but you will only use your score on even numbered holes for the game. \nPlease sign up in TeamReach by Tuesday at 5pm so the pairings can be made.
URL:https://dwgafl.com/event/summer-fun-may-15th-just-even-holes/
LOCATION:Duran Golf Club\, 7032 Stadium Parkway\, Viera\, FL\, 32940\, United States
CATEGORIES:Summer Fun
END:VEVENT
BEGIN:VEVENT
DTSTART;TZID=America/New_York:20250508T083000
DTEND;TZID=America/New_York:20250508T133000
DTSTAMP:20260420T003808
CREATED:20250421T220205Z
LAST-MODIFIED:20250421T220947Z
UID:72-1746693000-1746711000@dwgafl.com
SUMMARY:Summer Fun: May 8th - If Only
DESCRIPTION:If Only \nThis is an individual low gross/low net game by flight. You will receive 1/2 your handicap and permission to throw out your two worst gross scores. Example: Your gross score for 18-holes is 92\, your two worst holes total 12 and your handicap is 17. 92 minus 12 minus 8.5 = 71.5 net score. \nSign Up in TeamReach by Tuesday at 6pm so the pairings can be made.
URL:https://dwgafl.com/event/summer-fun-may-8th-if-only/
LOCATION:Duran Golf Club\, 7032 Stadium Parkway\, Viera\, FL\, 32940\, United States
CATEGORIES:Summer Fun
END:VEVENT
BEGIN:VEVENT
DTSTART;TZID=America/New_York:20250501T083000
DTEND;TZID=America/New_York:20250501T133000
DTSTAMP:20260420T003808
CREATED:20250421T215937Z
LAST-MODIFIED:20250421T221001Z
UID:70-1746088200-1746106200@dwgafl.com
SUMMARY:Summer Fun Starts: May 1st - One Best Ball\, One Best Putt
DESCRIPTION:One Best Ball\, One Best Putt \nFor this game you will play your own ball through the hole counting every stroke. Each player will keep her own score and indicate the Team choices on the scorecard. You will count One Best Net Ball and One Best Putt of the team (the scores may not be from the same player) on each hole. Total them together for the team score. We will play 2 or 4 person teams depending on the number of players. \nSign Up in TeamReach by Tuesday at 6pm so the pairings can be made.
URL:https://dwgafl.com/event/summer-fun-starts-may-1st-one-best-ball-one-best-putt/
LOCATION:Duran Golf Club\, 7032 Stadium Parkway\, Viera\, FL\, 32940\, United States
CATEGORIES:Summer Fun
END:VEVENT
BEGIN:VEVENT
DTSTART;TZID=America/New_York:20250424T090000
DTEND;TZID=America/New_York:20250424T140000
DTSTAMP:20260420T003808
CREATED:20250421T202001Z
LAST-MODIFIED:20250422T015228Z
UID:35-1745485200-1745503200@dwgafl.com
SUMMARY:Last Regular Season League Play: April 24th - 4-Person Scramble
DESCRIPTION:Last game day of regular season. \nOpen Team Play – 4-Person Scramble. The Committee will form the teams. Each player must use 2 drives on each side. \nSign Up on TeamReach app.
URL:https://dwgafl.com/event/last-day-league-play-4-person-scramble/
LOCATION:Duran Golf Club\, 7032 Stadium Parkway\, Viera\, FL\, 32940\, United States
END:VEVENT
END:VCALENDAR